BEGIN:VCALENDAR
VERSION:2.0
PRODID:icalendar-ruby
CALSCALE:GREGORIAN
METHOD:PUBLISH
BEGIN:VEVENT
DTSTAMP:20260424T110644Z
UID:625-1379964@gilmoreparkunited.ca
DTSTART:20260506T170000Z
DTEND:20260506T180000Z
CLASS:PUBLIC
CREATED:20260404T102415
DESCRIPTION:\nSeniors Social – All welcome!.\n\n\nJoin Kerry for a time o
 f coffee/tea\, connection and community.\nOffered monthly on the first Wed
 nesday of the month from 10:00am-11:00am. \n
LAST-MODIFIED:20260404T102415
LOCATION:Gilmore Park United Church
SUMMARY:COFFEE DROP-IN
URL;VALUE=URI:https://www.gilmoreparkunited.ca/events/coffee-drop-in/2026-0
 5-06
ATTACH;FILENAME=Seniors Coffee.jpg;FMTTYPE=image/jpeg:https://dq5pwpg1q8ru0
 .cloudfront.net/2025/11/20/19/07/46/1490f6f2-060a-4f42-92cc-1b4c38893e1a/S
 eniors%20Coffee.jpg
END:VEVENT
END:VCALENDAR
